Package: RBM Version: 1.39.0 Command: /Library/Frameworks/R.framework/Resources/bin/R CMD build --keep-empty-dirs --no-resave-data RBM StartedAt: 2025-02-09 18:05:35 -0500 (Sun, 09 Feb 2025) EndedAt: 2025-02-09 18:06:13 -0500 (Sun, 09 Feb 2025) EllapsedTime: 37.9 seconds RetCode: 0 Status: OK PackageFile: RBM_1.39.0.tar.gz PackageFileSize: 373.9 KiB