Package: RBM Version: 1.39.0 Command: /Library/Frameworks/R.framework/Resources/bin/R CMD check --install=check:RBM.install-out.txt --library=/Library/Frameworks/R.framework/Resources/library --no-vignettes --timings RBM_1.39.0.tar.gz StartedAt: 2025-02-09 22:59:11 -0500 (Sun, 09 Feb 2025) EndedAt: 2025-02-09 23:00:08 -0500 (Sun, 09 Feb 2025) EllapsedTime: 57.0 seconds RetCode: 0 Status: OK CheckDir: RBM.Rcheck Warnings: 0