Package: RBM Version: 1.39.0 Command: rm -rf RBM.buildbin-libdir && mkdir RBM.buildbin-libdir && E:\biocbuild\bbs-3.21-bioc\R\bin\R.exe CMD INSTALL --build --library=RBM.buildbin-libdir RBM_1.39.0.tar.gz StartedAt: 2025-02-10 08:29:22 -0500 (Mon, 10 Feb 2025) EndedAt: 2025-02-10 08:29:28 -0500 (Mon, 10 Feb 2025) EllapsedTime: 5.8 seconds RetCode: 0 Status: OK PackageFile: RBM_1.39.0.zip PackageFileSize: 273.9 KiB