Package: RBioFormats Version: 1.7.0 Command: rm -rf RBioFormats.buildbin-libdir && mkdir RBioFormats.buildbin-libdir && /Users/biocbuild/BBS/utils/build-universal.sh RBioFormats_1.7.0.tar.gz /Library/Frameworks/R.framework/Resources/bin/R RBioFormats.buildbin-libdir StartedAt: 2025-02-09 22:26:36 -0500 (Sun, 09 Feb 2025) EndedAt: 2025-02-09 22:26:41 -0500 (Sun, 09 Feb 2025) EllapsedTime: 5.1 seconds RetCode: 0 Status: OK PackageFile: RBioFormats_1.7.0.tgz PackageFileSize: 523.2 KiB