Package: RBioFormats Version: 1.7.0 Command: /home/biocbuild/R/R/bin/R CMD build --keep-empty-dirs --no-resave-data RBioFormats StartedAt: 2025-01-29 01:31:06 -0000 (Wed, 29 Jan 2025) EndedAt: 2025-01-29 01:31:30 -0000 (Wed, 29 Jan 2025) EllapsedTime: 24.0 seconds RetCode: 0 Status: OK PackageFile: RBioFormats_1.7.0.tar.gz PackageFileSize: 388.8 KiB