Package: RBioFormats Version: 1.7.0 Command: /home/biocbuild/R/R/bin/R CMD check --install=check:RBioFormats.install-out.txt --library=/home/biocbuild/R/R/site-library --no-vignettes --timings RBioFormats_1.7.0.tar.gz StartedAt: 2025-01-28 14:19:13 -0000 (Tue, 28 Jan 2025) EndedAt: 2025-01-28 14:20:40 -0000 (Tue, 28 Jan 2025) EllapsedTime: 87.1 seconds RetCode: 0 Status: OK CheckDir: RBioFormats.Rcheck Warnings: 0