Package: RBioFormats Version: 1.7.0 Command: rm -rf RBioFormats.buildbin-libdir && mkdir RBioFormats.buildbin-libdir && /Users/biocbuild/BBS/utils/build-universal.sh RBioFormats_1.7.0.tar.gz /Library/Frameworks/R.framework/Resources/bin/R RBioFormats.buildbin-libdir StartedAt: 2025-02-04 00:50:46 -0500 (Tue, 04 Feb 2025) EndedAt: 2025-02-04 00:51:02 -0500 (Tue, 04 Feb 2025) EllapsedTime: 16.2 seconds RetCode: 0 Status: OK PackageFile: RBioFormats_1.7.0.tgz PackageFileSize: 522.2 KiB