Package: RBioFormats Version: 1.7.0 Command: /Library/Frameworks/R.framework/Resources/bin/R CMD INSTALL RBioFormats StartedAt: 2025-02-09 15:24:36 -0500 (Sun, 09 Feb 2025) EndedAt: 2025-02-09 15:24:55 -0500 (Sun, 09 Feb 2025) EllapsedTime: 18.6 seconds RetCode: 0 Status: OK