Package: RBioFormats Version: 1.7.0 Command: /home/biocbuild/bbs-3.21-bioc/R/bin/R CMD build --keep-empty-dirs --no-resave-data RBioFormats StartedAt: 2025-02-03 18:58:38 -0500 (Mon, 03 Feb 2025) EndedAt: 2025-02-03 18:58:55 -0500 (Mon, 03 Feb 2025) EllapsedTime: 17.0 seconds RetCode: 0 Status: OK PackageFile: RBioFormats_1.7.0.tar.gz PackageFileSize: 320.2 KiB