Package: RBioFormats Version: 1.7.0 Command: /home/biocbuild/bbs-3.21-bioc/R/bin/R CMD check --install=check:RBioFormats.install-out.txt --library=/home/biocbuild/bbs-3.21-bioc/R/site-library --timings RBioFormats_1.7.0.tar.gz StartedAt: 2025-02-10 01:42:52 -0500 (Mon, 10 Feb 2025) EndedAt: 2025-02-10 01:44:09 -0500 (Mon, 10 Feb 2025) EllapsedTime: 77.2 seconds RetCode: 0 Status: OK CheckDir: RBioFormats.Rcheck Warnings: 0