Package: RBioFormats Version: 1.7.0 Command: rm -rf RBioFormats.buildbin-libdir && mkdir RBioFormats.buildbin-libdir && E:\biocbuild\bbs-3.21-bioc\R\bin\R.exe CMD INSTALL --build --library=RBioFormats.buildbin-libdir RBioFormats_1.7.0.tar.gz StartedAt: 2025-02-10 08:29:15 -0500 (Mon, 10 Feb 2025) EndedAt: 2025-02-10 08:29:52 -0500 (Mon, 10 Feb 2025) EllapsedTime: 36.9 seconds RetCode: 0 Status: OK PackageFile: RBioFormats_1.7.0.zip PackageFileSize: 525.5 KiB