Package: RBioFormats Version: 1.7.0 Command: chmod a+r RBioFormats -R && E:\biocbuild\bbs-3.21-bioc\R\bin\R.exe CMD build --keep-empty-dirs --no-resave-data RBioFormats StartedAt: 2025-02-09 21:02:03 -0500 (Sun, 09 Feb 2025) EndedAt: 2025-02-09 21:02:31 -0500 (Sun, 09 Feb 2025) EllapsedTime: 27.9 seconds RetCode: 0 Status: OK PackageFile: RBioFormats_1.7.0.tar.gz PackageFileSize: 320.3 KiB