Package: RBioFormats Version: 1.7.0 Command: E:\biocbuild\bbs-3.21-bioc\R\bin\R.exe CMD check --no-multiarch --install=check:RBioFormats.install-out.txt --library=E:\biocbuild\bbs-3.21-bioc\R\library --no-vignettes --timings RBioFormats_1.7.0.tar.gz StartedAt: 2025-02-04 04:56:57 -0500 (Tue, 04 Feb 2025) EndedAt: 2025-02-04 04:58:36 -0500 (Tue, 04 Feb 2025) EllapsedTime: 98.8 seconds RetCode: 0 Status: OK CheckDir: RBioFormats.Rcheck Warnings: 0