Package: RBioFormats Version: 1.7.0 Command: E:\biocbuild\bbs-3.21-bioc\R\bin\R.exe CMD INSTALL RBioFormats StartedAt: 2025-02-09 15:36:18 -0500 (Sun, 09 Feb 2025) EndedAt: 2025-02-09 15:36:47 -0500 (Sun, 09 Feb 2025) EllapsedTime: 29.0 seconds RetCode: 0 Status: OK