Package: RBioinf Version: 1.67.0 Maintainer: Robert Gentleman MaintainerEmail: rgentlem at gmail.com git_url: https://git.bioconductor.org/packages/RBioinf git_branch: devel git_last_commit: aca51a9 git_last_commit_date: 2024-10-29 09:29:00 -0500 (Tue, 29 Oct 2024)