Package: RBioinf Version: 1.67.0 Command: /Library/Frameworks/R.framework/Resources/bin/R CMD INSTALL RBioinf StartedAt: 2025-02-12 15:05:58 -0500 (Wed, 12 Feb 2025) EndedAt: 2025-02-12 15:06:20 -0500 (Wed, 12 Feb 2025) EllapsedTime: 21.8 seconds RetCode: 0 Status: OK