Package: RBioinf Version: 1.67.0 Command: /home/biocbuild/bbs-3.21-bioc/R/bin/R CMD build --keep-empty-dirs --no-resave-data RBioinf StartedAt: 2025-02-12 18:45:53 -0500 (Wed, 12 Feb 2025) EndedAt: 2025-02-12 18:46:03 -0500 (Wed, 12 Feb 2025) EllapsedTime: 10.0 seconds RetCode: 0 Status: OK PackageFile: RBioinf_1.67.0.tar.gz PackageFileSize: 3.544 MiB