Package: RBioinf Version: 1.67.0 Command: chmod a+r RBioinf -R && E:\biocbuild\bbs-3.21-bioc\R\bin\R.exe CMD build --keep-empty-dirs --no-resave-data RBioinf StartedAt: 2025-02-09 21:02:21 -0500 (Sun, 09 Feb 2025) EndedAt: 2025-02-09 21:02:39 -0500 (Sun, 09 Feb 2025) EllapsedTime: 18.7 seconds RetCode: 0 Status: OK PackageFile: RBioinf_1.67.0.tar.gz PackageFileSize: 3.436 MiB