Package: RCM Version: 1.23.0 Command: rm -rf RCM.buildbin-libdir && mkdir RCM.buildbin-libdir && /Users/biocbuild/BBS/utils/build-universal.sh RCM_1.23.0.tar.gz /Library/Frameworks/R.framework/Resources/bin/R RCM.buildbin-libdir StartedAt: 2025-02-12 22:31:53 -0500 (Wed, 12 Feb 2025) EndedAt: 2025-02-12 22:32:03 -0500 (Wed, 12 Feb 2025) EllapsedTime: 10.2 seconds RetCode: 0 Status: OK PackageFile: RCM_1.23.0.tgz PackageFileSize: 5.062 MiB