Package: RCM Version: 1.23.0 Command: /Library/Frameworks/R.framework/Resources/bin/R CMD INSTALL RCM StartedAt: 2025-02-12 15:22:27 -0500 (Wed, 12 Feb 2025) EndedAt: 2025-02-12 15:22:36 -0500 (Wed, 12 Feb 2025) EllapsedTime: 9.4 seconds RetCode: 0 Status: OK