Package: RCM Version: 1.23.0 Command: /home/biocbuild/R/R/bin/R CMD INSTALL RCM StartedAt: 2025-01-29 20:22:32 -0000 (Wed, 29 Jan 2025) EndedAt: 2025-01-29 20:23:03 -0000 (Wed, 29 Jan 2025) EllapsedTime: 31.0 seconds RetCode: 0 Status: OK