Package: RCM Version: 1.23.0 Command: /Library/Frameworks/R.framework/Resources/bin/R CMD build --keep-empty-dirs --no-resave-data RCM StartedAt: 2025-02-09 18:06:23 -0500 (Sun, 09 Feb 2025) EndedAt: 2025-02-09 18:07:25 -0500 (Sun, 09 Feb 2025) EllapsedTime: 61.8 seconds RetCode: 0 Status: OK PackageFile: RCM_1.23.0.tar.gz PackageFileSize: 4.819 MiB