Package: RCM Version: 1.23.0 Command: /Library/Frameworks/R.framework/Resources/bin/R CMD INSTALL RCM StartedAt: 2025-02-09 15:36:41 -0500 (Sun, 09 Feb 2025) EndedAt: 2025-02-09 15:37:12 -0500 (Sun, 09 Feb 2025) EllapsedTime: 31.0 seconds RetCode: 0 Status: OK