Package: RCM Version: 1.23.0 Command: /home/biocbuild/bbs-3.21-bioc/R/bin/R CMD build --keep-empty-dirs --no-resave-data RCM StartedAt: 2025-02-09 18:50:45 -0500 (Sun, 09 Feb 2025) EndedAt: 2025-02-09 18:51:37 -0500 (Sun, 09 Feb 2025) EllapsedTime: 52.0 seconds RetCode: 0 Status: OK PackageFile: RCM_1.23.0.tar.gz PackageFileSize: 4.154 MiB