Package: RCM Version: 1.23.0 Command: /home/biocbuild/bbs-3.21-bioc/R/bin/R CMD INSTALL RCM StartedAt: 2025-02-12 15:17:43 -0500 (Wed, 12 Feb 2025) EndedAt: 2025-02-12 15:18:06 -0500 (Wed, 12 Feb 2025) EllapsedTime: 22.9 seconds RetCode: 0 Status: OK