Package: RCM Version: 1.23.0 Command: E:\biocbuild\bbs-3.21-bioc\R\bin\R.exe CMD check --no-multiarch --install=check:RCM.install-out.txt --library=E:\biocbuild\bbs-3.21-bioc\R\library --no-vignettes --timings RCM_1.23.0.tar.gz StartedAt: 2025-02-10 04:32:14 -0500 (Mon, 10 Feb 2025) EndedAt: 2025-02-10 04:40:10 -0500 (Mon, 10 Feb 2025) EllapsedTime: 476.7 seconds RetCode: 0 Status: OK CheckDir: RCM.Rcheck Warnings: 0