Package: RCSL Version: 1.15.0 Maintainer: Qinglin Mei MaintainerEmail: meiqinglinkf at 163.com git_url: https://git.bioconductor.org/packages/RCSL git_branch: devel git_last_commit: 8f4cc5d git_last_commit_date: 2024-10-29 11:01:04 -0500 (Tue, 29 Oct 2024)