Package: RCSL Version: 1.15.0 Command: rm -rf RCSL.buildbin-libdir && mkdir RCSL.buildbin-libdir && /Users/biocbuild/BBS/utils/build-universal.sh RCSL_1.15.0.tar.gz /Library/Frameworks/R.framework/Resources/bin/R RCSL.buildbin-libdir StartedAt: 2025-02-10 01:10:45 -0500 (Mon, 10 Feb 2025) EndedAt: 2025-02-10 01:10:59 -0500 (Mon, 10 Feb 2025) EllapsedTime: 14.7 seconds RetCode: 0 Status: OK PackageFile: RCSL_1.15.0.tgz PackageFileSize: 3.038 MiB