Package: RCSL Version: 1.15.0 Command: /Library/Frameworks/R.framework/Resources/bin/R CMD build --keep-empty-dirs --no-resave-data RCSL StartedAt: 2025-02-12 17:59:19 -0500 (Wed, 12 Feb 2025) EndedAt: 2025-02-12 17:59:50 -0500 (Wed, 12 Feb 2025) EllapsedTime: 30.9 seconds RetCode: 0 Status: OK PackageFile: RCSL_1.15.0.tar.gz PackageFileSize: 1.964 MiB