Package: RCSL Version: 1.15.0 Command: chmod a+r RCSL -R && E:\biocbuild\bbs-3.21-bioc\R\bin\R.exe CMD build --keep-empty-dirs --no-resave-data RCSL StartedAt: 2025-02-12 21:10:36 -0500 (Wed, 12 Feb 2025) EndedAt: 2025-02-12 21:14:09 -0500 (Wed, 12 Feb 2025) EllapsedTime: 213.3 seconds RetCode: 0 Status: OK PackageFile: RCSL_1.15.0.tar.gz PackageFileSize: 1.822 MiB