Package: RCSL Version: 1.15.0 Command: E:\biocbuild\bbs-3.21-bioc\R\bin\R.exe CMD check --no-multiarch --install=check:RCSL.install-out.txt --library=E:\biocbuild\bbs-3.21-bioc\R\library --no-vignettes --timings RCSL_1.15.0.tar.gz StartedAt: 2025-02-10 04:32:21 -0500 (Mon, 10 Feb 2025) EndedAt: 2025-02-10 04:40:41 -0500 (Mon, 10 Feb 2025) EllapsedTime: 500.7 seconds RetCode: 0 Status: OK CheckDir: RCSL.Rcheck Warnings: 0