Package: RCy3 Version: 2.27.0 Command: /Library/Frameworks/R.framework/Resources/bin/R CMD build --keep-empty-dirs --no-resave-data RCy3 StartedAt: 2025-02-09 17:21:52 -0500 (Sun, 09 Feb 2025) EndedAt: 2025-02-09 17:22:12 -0500 (Sun, 09 Feb 2025) EllapsedTime: 20.3 seconds RetCode: 0 Status: OK PackageFile: RCy3_2.27.0.tar.gz PackageFileSize: 6.207 MiB