Package: RCy3 Version: 2.27.0 Command: /Library/Frameworks/R.framework/Resources/bin/R CMD build --keep-empty-dirs --no-resave-data RCy3 StartedAt: 2025-02-12 17:59:40 -0500 (Wed, 12 Feb 2025) EndedAt: 2025-02-12 18:00:40 -0500 (Wed, 12 Feb 2025) EllapsedTime: 59.6 seconds RetCode: 0 Status: OK PackageFile: RCy3_2.27.0.tar.gz PackageFileSize: 6.457 MiB