Package: RCy3 Version: 2.27.0 Command: E:\biocbuild\bbs-3.21-bioc\R\bin\R.exe CMD check --no-multiarch --install=check:RCy3.install-out.txt --library=E:\biocbuild\bbs-3.21-bioc\R\library --no-vignettes --timings RCy3_2.27.0.tar.gz StartedAt: 2025-02-10 04:32:23 -0500 (Mon, 10 Feb 2025) EndedAt: 2025-02-10 04:34:38 -0500 (Mon, 10 Feb 2025) EllapsedTime: 134.9 seconds RetCode: 0 Status: OK CheckDir: RCy3.Rcheck Warnings: 0