Package: RCyjs Version: 2.29.0 Command: rm -rf RCyjs.buildbin-libdir && mkdir RCyjs.buildbin-libdir && /Users/biocbuild/BBS/utils/build-universal.sh RCyjs_2.29.0.tar.gz /Library/Frameworks/R.framework/Resources/bin/R RCyjs.buildbin-libdir StartedAt: 2025-02-09 22:26:55 -0500 (Sun, 09 Feb 2025) EndedAt: 2025-02-09 22:26:58 -0500 (Sun, 09 Feb 2025) EllapsedTime: 3.1 seconds RetCode: 0 Status: OK PackageFile: RCyjs_2.29.0.tgz PackageFileSize: 1.007 MiB