Package: RCyjs Version: 2.29.0 Command: /Library/Frameworks/R.framework/Resources/bin/R CMD build --keep-empty-dirs --no-resave-data RCyjs StartedAt: 2025-02-03 17:58:09 -0500 (Mon, 03 Feb 2025) EndedAt: 2025-02-03 17:58:13 -0500 (Mon, 03 Feb 2025) EllapsedTime: 4.1 seconds RetCode: 0 Status: OK PackageFile: RCyjs_2.29.0.tar.gz PackageFileSize: 1.084 MiB