Package: RCyjs Version: 2.29.0 Command: /Library/Frameworks/R.framework/Resources/bin/R CMD check --install=check:RCyjs.install-out.txt --library=/Library/Frameworks/R.framework/Resources/library --no-vignettes --timings RCyjs_2.29.0.tar.gz StartedAt: 2025-02-09 20:53:12 -0500 (Sun, 09 Feb 2025) EndedAt: 2025-02-09 20:53:30 -0500 (Sun, 09 Feb 2025) EllapsedTime: 18.3 seconds RetCode: 0 Status: WARNINGS CheckDir: RCyjs.Rcheck Warnings: 1