Package: RCyjs Version: 2.29.0 Command: /Library/Frameworks/R.framework/Resources/bin/R CMD INSTALL RCyjs StartedAt: 2025-02-09 15:03:32 -0500 (Sun, 09 Feb 2025) EndedAt: 2025-02-09 15:03:35 -0500 (Sun, 09 Feb 2025) EllapsedTime: 3.5 seconds RetCode: 0 Status: OK