Package: RCyjs Version: 2.29.0 Command: /home/biocbuild/R/R/bin/R CMD check --install=check:RCyjs.install-out.txt --library=/home/biocbuild/R/R/site-library --no-vignettes --timings RCyjs_2.29.0.tar.gz StartedAt: 2025-01-28 14:22:29 -0000 (Tue, 28 Jan 2025) EndedAt: 2025-01-28 14:23:13 -0000 (Tue, 28 Jan 2025) EllapsedTime: 44.1 seconds RetCode: 0 Status: WARNINGS CheckDir: RCyjs.Rcheck Warnings: 1