Package: RCyjs Version: 2.29.0 Command: rm -rf RCyjs.buildbin-libdir && mkdir RCyjs.buildbin-libdir && /Users/biocbuild/BBS/utils/build-universal.sh RCyjs_2.29.0.tar.gz /Library/Frameworks/R.framework/Resources/bin/R RCyjs.buildbin-libdir StartedAt: 2025-02-10 01:10:50 -0500 (Mon, 10 Feb 2025) EndedAt: 2025-02-10 01:11:02 -0500 (Mon, 10 Feb 2025) EllapsedTime: 11.4 seconds RetCode: 0 Status: OK PackageFile: RCyjs_2.29.0.tgz PackageFileSize: 1 MiB