Package: RCyjs Version: 2.29.0 Command: /Library/Frameworks/R.framework/Resources/bin/R CMD check --install=check:RCyjs.install-out.txt --library=/Library/Frameworks/R.framework/Resources/library --no-vignettes --timings RCyjs_2.29.0.tar.gz StartedAt: 2025-02-03 22:44:48 -0500 (Mon, 03 Feb 2025) EndedAt: 2025-02-03 22:45:41 -0500 (Mon, 03 Feb 2025) EllapsedTime: 52.3 seconds RetCode: 0 Status: WARNINGS CheckDir: RCyjs.Rcheck Warnings: 1