Package: RCyjs Version: 2.29.0 Command: chmod a+r RCyjs -R && E:\biocbuild\bbs-3.21-bioc\R\bin\R.exe CMD build --keep-empty-dirs --no-resave-data RCyjs StartedAt: 2025-02-09 21:04:27 -0500 (Sun, 09 Feb 2025) EndedAt: 2025-02-09 21:06:28 -0500 (Sun, 09 Feb 2025) EllapsedTime: 120.9 seconds RetCode: 0 Status: OK PackageFile: RCyjs_2.29.0.tar.gz PackageFileSize: 1.084 MiB