Package: RCyjs Version: 2.29.0 Command: E:\biocbuild\bbs-3.21-bioc\R\bin\R.exe CMD check --no-multiarch --install=check:RCyjs.install-out.txt --library=E:\biocbuild\bbs-3.21-bioc\R\library --no-vignettes --timings RCyjs_2.29.0.tar.gz StartedAt: 2025-02-10 04:32:39 -0500 (Mon, 10 Feb 2025) EndedAt: 2025-02-10 04:33:40 -0500 (Mon, 10 Feb 2025) EllapsedTime: 60.8 seconds RetCode: 0 Status: WARNINGS CheckDir: RCyjs.Rcheck Warnings: 1