Package: RCyjs Version: 2.29.0 Command: E:\biocbuild\bbs-3.21-bioc\R\bin\R.exe CMD INSTALL RCyjs StartedAt: 2025-02-03 15:42:17 -0500 (Mon, 03 Feb 2025) EndedAt: 2025-02-03 15:43:39 -0500 (Mon, 03 Feb 2025) EllapsedTime: 82.3 seconds RetCode: 0 Status: OK