Package: REBET Version: 1.25.0 Command: rm -rf REBET.buildbin-libdir && mkdir REBET.buildbin-libdir && /Users/biocbuild/BBS/utils/build-universal.sh REBET_1.25.0.tar.gz /Library/Frameworks/R.framework/Resources/bin/R REBET.buildbin-libdir StartedAt: 2025-02-09 22:26:58 -0500 (Sun, 09 Feb 2025) EndedAt: 2025-02-09 22:27:02 -0500 (Sun, 09 Feb 2025) EllapsedTime: 4.1 seconds RetCode: 0 Status: OK PackageFile: REBET_1.25.0.tgz PackageFileSize: 331.1 KiB