Package: REBET Version: 1.25.0 Command: /Library/Frameworks/R.framework/Resources/bin/R CMD build --keep-empty-dirs --no-resave-data REBET StartedAt: 2025-02-09 17:22:04 -0500 (Sun, 09 Feb 2025) EndedAt: 2025-02-09 17:22:10 -0500 (Sun, 09 Feb 2025) EllapsedTime: 6.1 seconds RetCode: 0 Status: OK PackageFile: REBET_1.25.0.tar.gz PackageFileSize: 310.5 KiB