Package: REBET Version: 1.25.0 Command: /Library/Frameworks/R.framework/Resources/bin/R CMD check --install=check:REBET.install-out.txt --library=/Library/Frameworks/R.framework/Resources/library --no-vignettes --timings REBET_1.25.0.tar.gz StartedAt: 2025-02-12 20:58:02 -0500 (Wed, 12 Feb 2025) EndedAt: 2025-02-12 20:58:24 -0500 (Wed, 12 Feb 2025) EllapsedTime: 22.3 seconds RetCode: 0 Status: OK CheckDir: REBET.Rcheck Warnings: 0