Package: REBET Version: 1.25.0 Command: /Library/Frameworks/R.framework/Resources/bin/R CMD build --keep-empty-dirs --no-resave-data REBET StartedAt: 2025-02-12 18:00:07 -0500 (Wed, 12 Feb 2025) EndedAt: 2025-02-12 18:00:23 -0500 (Wed, 12 Feb 2025) EllapsedTime: 16.0 seconds RetCode: 0 Status: OK PackageFile: REBET_1.25.0.tar.gz PackageFileSize: 310.1 KiB