Package: REBET Version: 1.25.0 Command: /home/biocbuild/bbs-3.21-bioc/R/bin/R CMD build --keep-empty-dirs --no-resave-data REBET StartedAt: 2025-02-09 18:52:08 -0500 (Sun, 09 Feb 2025) EndedAt: 2025-02-09 18:52:20 -0500 (Sun, 09 Feb 2025) EllapsedTime: 12.0 seconds RetCode: 0 Status: OK PackageFile: REBET_1.25.0.tar.gz PackageFileSize: 311.2 KiB