Package: REBET Version: 1.25.0 Command: /home/biocbuild/bbs-3.21-bioc/R/bin/R CMD INSTALL REBET StartedAt: 2025-02-09 15:09:26 -0500 (Sun, 09 Feb 2025) EndedAt: 2025-02-09 15:09:36 -0500 (Sun, 09 Feb 2025) EllapsedTime: 9.8 seconds RetCode: 0 Status: OK